BEGIN:VCALENDAR
VERSION:2.0
PRODID:-//Snee Chemical - ECPv5.14.2.1//NONSGML v1.0//EN
CALSCALE:GREGORIAN
METHOD:PUBLISH
X-WR-CALNAME:Snee Chemical
X-ORIGINAL-URL:https://www.sneechemical.com
X-WR-CALDESC:Events for Snee Chemical
BEGIN:VTIMEZONE
TZID:UTC
BEGIN:STANDARD
TZOFFSETFROM:+0000
TZOFFSETTO:+0000
TZNAME:UTC
DTSTART:20180101T000000
END:STANDARD
END:VTIMEZONE
BEGIN:VEVENT
DTSTART;VALUE=DATE:20180210
DTEND;VALUE=DATE:20191123
DTSTAMP:20260425T011616
CREATED:20140731T003401Z
LAST-MODIFIED:20140731T003401Z
UID:8708-1518220800-1574467199@www.sneechemical.com
SUMMARY:Gas Turbine Engineering\, Certificate
DESCRIPTION:Event description\n	\n	This professional course on Gas Turbine Engineering contains a detailed study on gas turbine that is used for power generation in various applications like aircrafts\, automobiles\, and marine and also in various industrial applications. \nGas turbines are a kind of internal combustion engine where the combustion takes place inside the engine chamber. This turbine is also called as combustion turbine that can convert chemical energy (gaseous or liquid fuels) into mechanical energy. This mechanical energy is used to drive a generator that generates electrical energy. \n	Course Outline : \n◎ Fundamentals of Gas Turbines\n◎ Essential requirements\n◎ Advantages over other prime movers\n◎ Factors influencing efficiency\n◎ Applications\n◎ Working of gas turbine\n◎ Turbine based on power generation\n	General Overview Of Gas Turbines : \n◎ Ground based turbines classification\n◎ Frame type heavy–duty\n◎ Industrial type\n◎ Aircraft derivative\n◎ Small units\n◎ Micro-turbines
URL:https://www.sneechemical.com/classes/gas-turbine-engineering-certificate/
LOCATION:New York Ardesia Bar\, Lexington Avenue\, New York\, NY\, 10022\, United States
CATEGORIES:Design,Engineering,Manufacturing
ATTACH;FMTTYPE=image/jpeg:https://www.sneechemical.com/wp-content/uploads/2014/07/Event6.jpg
ORGANIZER;CN="Michael":MAILTO:junk@vamtam.com
END:VEVENT
END:VCALENDAR